BEGIN:VCALENDAR
VERSION:2.0
PRODID:icalendar-ruby
CALSCALE:GREGORIAN
METHOD:PUBLISH
BEGIN:VEVENT
DTSTAMP:20260424T201639Z
UID:1-583726@newlifesanctuarymd.org
DTSTART:20261004T150000Z
DTEND:20261004T163000Z
CLASS:PUBLIC
CREATED:20260424T154205
DESCRIPTION:Bring the whole family and come and be blessed by the word of t
 he Lord.\n Click "Join Us Live" to get connected via Zoom.\n \n 
LAST-MODIFIED:20260424T154205
LOCATION:
SUMMARY:Sunday Morning Worship
URL;VALUE=URI:https://www.newlifesanctuarymd.org/events/sunday-morning-wors
 hip/2026-10-04
ATTACH;FILENAME=60. worship.jpg;FMTTYPE=image/jpeg:https://dq5pwpg1q8ru0.cl
 oudfront.net/2021/04/22/20/00/13/b1267e56-9e69-4b58-ac33-4dbb7756f16f/60.%
 20worship.jpg
END:VEVENT
END:VCALENDAR
